BEGIN:VCALENDAR
PRODID:-//kirchenweb.ch gmbh//veranstaltungsausgabe v2.0//DE
VERSION:2.0
METHOD:PUBLISH
BEGIN:VEVENT
DTSTART:20230917T074500Z
DTEND:20230917T084500Z
LOCATION:Kirche Löhningen\, Kloster 3\, 8224 Löhningen
TRANSP:OPAQUE
SEQUENCE:0
UID:140071-veranstaltung@ref-sh.ch
DTSTAMP:20230919T051059Z
DESCRIPTION:Abendmahls-Gottesdienst zum Eidgenössischen Dank-\, Buss- und
  Bettag\, mit Ziitfenschter-Team und Pfarrer Lukas Huber.\n\nKontakt:
  Pfarrer Lukas Huber\n\nWeitere Infos:
  https://www.ref-sh.ch/veranstaltung/140071
SUMMARY:Ziitfenschter-Abendmahlsgottesdienst zum Bettag
PRIORITY:5
X-MICROSOFT-CDO-IMPORTANCE:1
CLASS:PUBLIC
END:VEVENT
END:VCALENDAR
