BEGIN:VCALENDAR
PRODID:-//kirchenweb.ch gmbh//veranstaltungsausgabe v2.0//DE
VERSION:2.0
METHOD:PUBLISH
BEGIN:VEVENT
DTSTART:20230827T074500Z
DTEND:20230827T084500Z
LOCATION:Kirche Löhningen\, Kloster 3\, 8224 Löhningen
TRANSP:OPAQUE
SEQUENCE:0
UID:140070-veranstaltung@ref-sh.ch
DTSTAMP:20231227T170256Z
DESCRIPTION:WEGEN DER UNGÜNSTIGEN WITTERUNG WIRD DER ALLIANZ-GOTTESDIENST
  NICHT AUF DEM SCHULPLATZ GUNTMADINGEN STATTFINDEN\, SONDERN IN DER KIRCHE
  LÖHNINGEN.\n\nEs feiern die Evang.-ref. Kirchgemeinde Beringen und
  Löhningen–Guntmadingen zusammen mit der Evangelischen Freikirche
  Chrischona Beringen\, mit Pfarrer Lukas Huber\, Milena Šelemba
  (Chrischona Beringen)\, mit Pfarrerin Jutta Schenk (ref. Kirchgemeinde
  Beringen) sowie der Musikgesellschaft Löhningen. Kinderprogramm und
  Chindehüeti; anschliessend Aperitif.\n\nKontakt: Pfarrer Lukas Huber\n
 \nWeitere Infos: https://www.ref-sh.ch/veranstaltung/140070
SUMMARY:Allianz-Gottesdienst
PRIORITY:5
X-MICROSOFT-CDO-IMPORTANCE:1
CLASS:PUBLIC
END:VEVENT
END:VCALENDAR
