BEGIN:VCALENDAR
PRODID:-//kirchenweb.ch gmbh//veranstaltungsausgabe v2.0//DE
VERSION:2.0
METHOD:PUBLISH
BEGIN:VEVENT
DTSTART:20230813T083000Z
DTEND:20230813T093000Z
LOCATION:Pfarrgarten Löhningen\, Kloster 3\, 8224 Löhningen
TRANSP:OPAQUE
SEQUENCE:0
UID:140066-veranstaltung@ref-sh.ch
DTSTAMP:20230821T130905Z
DESCRIPTION:Familiengottesdienst zum Schulbeginn (Begrüssungsgottesdienst
  für Kinder des 3.- und 5.-Klass-Unterrichts) mit Team\, Katechetin Anita
  Bischof und Pfarrer Lukas P. Huber; bei schönem Wetter im Pfarrgarten\,
  bei ungünstiger Witterung in der Kirche.\n\nWährend des Gottesdienst
  gibt es für Kinder die Möglichkeit\, sich für das Schuljahr segnen zu
  lassen.\n\nAnschliessend Aperitif\,
  Neuzuzügerinnen-/Neuzuzüger-Begrüssung und Gelegenheit zum Griliieren
  im https://map.search.ch/Löhningen\,Kloster-3@683658\,283762.\n\nBei
  Regen findet der Gottesdienst in der
  https://map.search.ch/Löhningen\,Kloster-14@683630\,283758 statt.\n\n
 \nKontakt: Pfarrer Lukas P. Huber\n\nWeitere Infos:
  https://www.ref-sh.ch/veranstaltung/140066
SUMMARY:Familiengottesdienst zum Schulbeginn
PRIORITY:5
X-MICROSOFT-CDO-IMPORTANCE:1
CLASS:PUBLIC
END:VEVENT
END:VCALENDAR
