BEGIN:VCALENDAR
PRODID:-//kirchenweb.ch gmbh//veranstaltungsausgabe v2.0//DE
VERSION:2.0
METHOD:PUBLISH
BEGIN:VEVENT
DTSTART:20230702T074500Z
DTEND:20230702T084500Z
LOCATION:Kirche\, Kloster\, 8224 Löhningen
TRANSP:OPAQUE
SEQUENCE:0
UID:140063-veranstaltung@ref-sh.ch
DTSTAMP:20230703T062544Z
DESCRIPTION:Gottesdienst in der Kirche Löhningen.\n\nKontakt: Pfarrer
  Lukas Huber\n\nWeitere Infos: https://www.ref-sh.ch/veranstaltung/140063
SUMMARY:Gottesdienst mit dem «Fiire mit de Grosse»
PRIORITY:5
X-MICROSOFT-CDO-IMPORTANCE:1
CLASS:PUBLIC
END:VEVENT
END:VCALENDAR
