BEGIN:VCALENDAR
PRODID:-//kirchenweb.ch gmbh//veranstaltungsausgabe v2.0//DE
VERSION:2.0
METHOD:PUBLISH
BEGIN:VEVENT
DTSTART:20230604T074500Z
DTEND:20230604T084500Z
LOCATION:Kirche\, Kloster\, 8224 Löhningen
TRANSP:OPAQUE
SEQUENCE:0
UID:140060-veranstaltung@ref-sh.ch
DTSTAMP:20240413T154655Z
DESCRIPTION:Gottesdienst mit dem Ziitfenschter-Team und Pfarrer Lukas
  Huber.\n\nDer Gottesdienst wird auch auf https://ref-sh.ch/stream
  übertragen.\n\nAnschliessend Kirchgemeinde-Versammlung (ca. 10.45 Uhr).
 \n\nKontakt: Lukas Huber\n\nWeitere Infos:
  https://www.ref-sh.ch/veranstaltung/140060
SUMMARY:Ziitfenschter-Gottesdienst mit Livestream\, anschliessend
  Kirchgemeinde-Versammlung
PRIORITY:5
X-MICROSOFT-CDO-IMPORTANCE:1
CLASS:PUBLIC
END:VEVENT
END:VCALENDAR
