BEGIN:VCALENDAR
PRODID:-//kirchenweb.ch gmbh//veranstaltungsausgabe v2.0//DE
VERSION:2.0
METHOD:PUBLISH
BEGIN:VEVENT
DTSTART:20230618T074500Z
DTEND:20230618T084500Z
LOCATION:Pfarrgarten Löhningen\, Kloster 3\, 8224 Löhningen
TRANSP:OPAQUE
SEQUENCE:0
UID:140059-veranstaltung@ref-sh.ch
DTSTAMP:20230620T165214Z
DESCRIPTION:Gottesdienst im Pfarrgarten Löhningen mit Pfarrer Lukas
  Huber. Es ist ein Gottesdienst in der Serie «Was mir der Glaube
  bedeutet»\, Regula Mächler aus Löhningen wird aus ihrem Leben und
  Glauben erzählen\, Pfarrer Lukas Huber wird predigen.\n\nBei
  ungünstiger Witterung findet der Gottesdienst in der Kirche Löhningen
  statt.\n\nKontakt: Pfarrer Lukas Huber\n\nWeitere Infos:
  https://www.ref-sh.ch/veranstaltung/140059
SUMMARY:Gottesdienst
PRIORITY:5
X-MICROSOFT-CDO-IMPORTANCE:1
CLASS:PUBLIC
END:VEVENT
END:VCALENDAR
