BEGIN:VCALENDAR
PRODID:-//kirchenweb.ch gmbh//veranstaltungsausgabe v2.0//DE
VERSION:2.0
METHOD:PUBLISH
BEGIN:VEVENT
DTSTART:20230514T074500Z
DTEND:20230514T084500Z
LOCATION:Kirche Löhningen\, Kloster 3\, 8224 Löhningen
TRANSP:OPAQUE
SEQUENCE:0
UID:140057-veranstaltung@ref-sh.ch
DTSTAMP:20230515T153518Z
DESCRIPTION:Gottesdienst mit Pfarrer Lukas P. Huber in der Kirche
  Löhningen. Der Gottesdienst war im Pfarrgarten geplant gewesen\, wegen
  des unsicheren und kühlen Wetters haben wir beschlossen\, dass der
  Gottesdienst in der Kirche gefeiert wird.\n\nAnschliessend Chilekafi im
  Mesmerhuus.\n\nKontakt: Pfarrer Lukas P. Huber\n\nWeitere Infos:
  https://www.ref-sh.ch/veranstaltung/140057
SUMMARY:Gottesdienst in der Kirche
PRIORITY:5
X-MICROSOFT-CDO-IMPORTANCE:1
CLASS:PUBLIC
END:VEVENT
END:VCALENDAR
