BEGIN:VCALENDAR
PRODID:-//kirchenweb.ch gmbh//veranstaltungsausgabe v2.0//DE
VERSION:2.0
METHOD:PUBLISH
BEGIN:VEVENT
DTSTART:20230507T080000Z
DTEND:20230507T090000Z
LOCATION:Begegnungszentrum Rüdlingen\, Alte Nackerstrasse 2\, 8455
  Rüdlingen
TRANSP:OPAQUE
SEQUENCE:0
UID:140056-veranstaltung@ref-sh.ch
DTSTAMP:20230816T073612Z
DESCRIPTION:Vom Freitag\, 5.\, bis Sonntag\, 7. Mai 2023\, findet das
  Generationen-Wochenende der Kirchgemeinden Gächlingen und
  Löhningen-Guntmadingen im Begegnungszentrum Rüdlingen statt. Deshalb
  gibt es keinen Gottesdienst in den Kirchen Gächlingen und Löhningen.\n
 \nAlle Menschen von Gächlingen\, Guntmadingen und Löhningen sind
  eingeladen\, den Gottesdienst in Rüdlingen zu besuchen und etwas
  Generationen-Wochenende-Luft zu schnuppern. Eine Mitfahrgelegenheit wird
  angeboten.\n\nAb 8.30 Uhr Kaffee und Zopf.\n\nGottesdienst mit
  Kinderprogramm.\n\nFür den Gottesdienst gibt es einen Fahrdienst. Für
  Löhningen und Guntmadingen kontaktieren Sie bitte\nRuedi Spörndli\,
  Stalden 16\, 8224 Löhningen\, ruedi.spoerndli@ref-sh.ch\, 052 685 19 69
 \n\nInformationen und Anmeldung zum Generationen-Wochenende finden Sie
  https://www.ref-sh.ch/generationen-wochenende\n\nKontakt: Pfarrer Lukas
  Huber\, Kloster 3\, 8224 Löhningen\, lukas.huber@ref-sh.ch\, 079 824 82
  24\, Pfarrer Werner Näf\, Talstrasse 5\, 8214 Gächlingen\,
  werner.naef@ref-sh.ch\, 052 681 12 42\n\nWeitere Infos:
  https://www.ref-sh.ch/veranstaltung/140056
SUMMARY:Gottesdienst zum Generationen-Wochenende
PRIORITY:5
X-MICROSOFT-CDO-IMPORTANCE:1
CLASS:PUBLIC
END:VEVENT
END:VCALENDAR
