BEGIN:VCALENDAR
PRODID:-//kirchenweb.ch gmbh//veranstaltungsausgabe v2.0//DE
VERSION:2.0
METHOD:PUBLISH
BEGIN:VEVENT
DTSTART:20230423T074500Z
DTEND:20230423T084500Z
LOCATION:Kirche Löhningen\, Kloster 3\, 8224 Löhningen
TRANSP:OPAQUE
SEQUENCE:0
UID:140054-veranstaltung@ref-sh.ch
DTSTAMP:20231227T165828Z
DESCRIPTION:Familiengottesdienst zur Kinderwoche 2023\, mit dem Team
  (Hauptleitung: http://beatrice.roost)\, mit den Kindern\, und mit Pfarrer
  Lukas P. Huber.\n\nDie Kirchgemeinde Oberhallau ist auch eingeladen in
  diesen Gottesdienst.\n\nAnschliessend Aperitif.\n\nMusik:
  Kinderwoche-Musikgrüppli und Orgel.\n\n\n\nKontakt: Lukas Huber\n
 \nWeitere Infos: https://www.ref-sh.ch/veranstaltung/140054
SUMMARY:Gottesdienst zur Kinderwoche
PRIORITY:5
X-MICROSOFT-CDO-IMPORTANCE:1
CLASS:PUBLIC
END:VEVENT
END:VCALENDAR
