BEGIN:VCALENDAR
PRODID:-//kirchenweb.ch gmbh//veranstaltungsausgabe v2.0//DE
VERSION:2.0
METHOD:PUBLISH
BEGIN:VEVENT
DTSTART:20230409T040000Z
DTEND:20230409T050000Z
LOCATION:Kirche Löhningen\, Kloster 3\, 8224 Löhningen
TRANSP:OPAQUE
SEQUENCE:0
UID:140050-veranstaltung@ref-sh.ch
DTSTAMP:20231227T165726Z
DESCRIPTION:Ostermorgenfeier im Kirchhof und in der Kirche Löhningen\,
  mit dem Ziitfenschter-Team. Treffpunkt bei Dunkelheit bei brennender
  Finnenkerze im Kirchhof\, Ostergeschichte\, Einzug in die Kirche mit der
  neuen Osterkerze\, kurze liturgische Feier in der Kirche.\n
 \nAnschliessend fröhliches Osterzmorge im Mesmerhuus (vorbereitet von
  Monika Niebuhr und Barbara Spörndli).\n\nKontakt: Lukas Huber\n\nWeitere
  Infos: https://www.ref-sh.ch/veranstaltung/140050
SUMMARY:Ostermorgen-Feier mit dem Ziitfenschter-Team
PRIORITY:5
X-MICROSOFT-CDO-IMPORTANCE:1
CLASS:PUBLIC
END:VEVENT
END:VCALENDAR
