BEGIN:VCALENDAR
PRODID:-//kirchenweb.ch gmbh//veranstaltungsausgabe v2.0//DE
VERSION:2.0
METHOD:PUBLISH
BEGIN:VEVENT
DTSTART:20230402T074500Z
DTEND:20230402T084500Z
LOCATION:Kirche Löhningen\, Kloster 3\, 8224 Löhningen
TRANSP:OPAQUE
SEQUENCE:0
UID:140048-veranstaltung@ref-sh.ch
DTSTAMP:20231227T165704Z
DESCRIPTION:Familiengottesdienst mit Abendmahl\, mit den Kindern des
  3.-Klass-Unterrichts\, mit Katechetin Anita Bischof und Pfarrer Lukas P.
  Huber. Musik: Orgel und kleine Band.\n\nAnschliessend Aperitif.\n\n\n
 \nKontakt: Lukas Huber\n\nWeitere Infos:
  https://www.ref-sh.ch/veranstaltung/140048
SUMMARY:Abendmahls-Familiengottesdienst mit den Kindern des
  3.-Klass-Unterrichts
PRIORITY:5
X-MICROSOFT-CDO-IMPORTANCE:1
CLASS:PUBLIC
END:VEVENT
END:VCALENDAR
