BEGIN:VCALENDAR
PRODID:-//kirchenweb.ch gmbh//veranstaltungsausgabe v2.0//DE
VERSION:2.0
METHOD:PUBLISH
BEGIN:VEVENT
DTSTART:20230326T074500Z
DTEND:20230326T084500Z
LOCATION:Kirche Löhningen\, Kloster 3\, 8224 Löhningen
TRANSP:OPAQUE
SEQUENCE:0
UID:140044-veranstaltung@ref-sh.ch
DTSTAMP:20231227T165622Z
DESCRIPTION:Gottesdienst zur «Goldenen Konfirmation» des Jahrgangs\, der
  1973 – also vor 50 Jahren – in der Kirchgemeinde
  Löhningen–Guntmadingen konfirmiert wurde.\n\nAnschliessend Aperitif
  vor der Kirche oder im Mesmerhuus.\n\nBitte beachten: In der Nacht von
  Samstag auf Sonntag wird die Uhr auf Sommerzeit umgestellt\, der
  Gottesdienst fängt quasi 1 Stunde früher an als gefühlt.\n\nKontakt:
  Lukas Huber\n\nWeitere Infos: https://www.ref-sh.ch/veranstaltung/140044
SUMMARY:Gottesdienst zur «Goldenen Konfirmation»
PRIORITY:5
X-MICROSOFT-CDO-IMPORTANCE:1
CLASS:PUBLIC
END:VEVENT
END:VCALENDAR
