BEGIN:VCALENDAR
PRODID:-//kirchenweb.ch gmbh//veranstaltungsausgabe v2.0//DE
VERSION:2.0
METHOD:PUBLISH
BEGIN:VEVENT
DTSTART:20230305T084500Z
DTEND:20230305T094500Z
LOCATION:Kirche Löhningen\, Kloster 3\, 8224 Löhningen
TRANSP:OPAQUE
SEQUENCE:0
UID:140042-veranstaltung@ref-sh.ch
DTSTAMP:20231227T165543Z
DESCRIPTION:Gottesdienst mit Pfarrer Lukas P. Huber. Predigt zum Song von
  Nick Cave & the Bad Seeds «Into My Arms».\n\nKontakt: Pfarrer Lukas P.
  Huber\n\nWeitere Infos: https://www.ref-sh.ch/veranstaltung/140042
SUMMARY:Gottesdienst mit Pop-Predigt
PRIORITY:5
X-MICROSOFT-CDO-IMPORTANCE:1
CLASS:PUBLIC
END:VEVENT
END:VCALENDAR
