BEGIN:VCALENDAR
PRODID:-//kirchenweb.ch gmbh//veranstaltungsausgabe v2.0//DE
VERSION:2.0
METHOD:PUBLISH
BEGIN:VEVENT
DTSTART:20230219T084500Z
DTEND:20230219T094500Z
LOCATION:Kirche Löhningen\, Kloster 3\, 8224 Löhningen
TRANSP:OPAQUE
SEQUENCE:0
UID:140041-veranstaltung@ref-sh.ch
DTSTAMP:20230630T073451Z
DESCRIPTION:Gottesdienst mit Ziitfenschter-Team und Pfarrer Lukas P.
  Huber: «Ändere dein Leben!»\n\nDie Predigt wird
  Kirchenstandspräsident Thomas Stamm halten.\n\nKontakt: Pfr. Lukas P.
  Huber\n\nWeitere Infos: https://www.ref-sh.ch/veranstaltung/140041
SUMMARY:Ziitfenschter-Gottesdienst
PRIORITY:5
X-MICROSOFT-CDO-IMPORTANCE:1
CLASS:PUBLIC
END:VEVENT
END:VCALENDAR
