BEGIN:VCALENDAR
PRODID:-//kirchenweb.ch gmbh//veranstaltungsausgabe v2.0//DE
VERSION:2.0
METHOD:PUBLISH
BEGIN:VEVENT
DTSTART:20230212T084500Z
DTEND:20230212T094500Z
LOCATION:Kirche Löhningen\, Kloster 3\, 8224 Löhningen
TRANSP:OPAQUE
SEQUENCE:0
UID:140039-veranstaltung@ref-sh.ch
DTSTAMP:20230214T070709Z
DESCRIPTION:Regio-Gottesdienst in der Kirche Löhningen\, mit Pfarrer
  Werner Näf (Gächlingen). Elara Marthaler (Löhningen) wird von Pfarrer
  Lukas P. Huber Huber getauft.\n\nDie Kirchgemeinde Beringen ist ebenfalls
  in diesen Gottesdienst eingeladen.\n\nKontakt: Werner Näf\n\nWeitere
  Infos: https://www.ref-sh.ch/veranstaltung/140039
SUMMARY:Regio-Taufgottesdienst in Löhningen
PRIORITY:5
X-MICROSOFT-CDO-IMPORTANCE:1
CLASS:PUBLIC
END:VEVENT
END:VCALENDAR
