BEGIN:VCALENDAR
PRODID:-//kirchenweb.ch gmbh//veranstaltungsausgabe v2.0//DE
VERSION:2.0
METHOD:PUBLISH
BEGIN:VEVENT
DTSTART:20230129T084500Z
DTEND:20230129T094500Z
LOCATION:Kirche Löhningen\, Kloster 3\, 8224 Löhningen
TRANSP:OPAQUE
SEQUENCE:0
UID:140036-veranstaltung@ref-sh.ch
DTSTAMP:20230130T172454Z
DESCRIPTION:Gottesdienst mit Pfarrer Lukas P. Huber in der Kirche
  Löhningen.\n\nDie Kirchgemeinde Oberhallau ist sehr herzlich eingeladen
  in diesem Gottesdienst!\n\nKontakt: Pfarrer Lukas P. Huber\n\nWeitere
  Infos: https://www.ref-sh.ch/veranstaltung/140036
SUMMARY:Gottesdienst
PRIORITY:5
X-MICROSOFT-CDO-IMPORTANCE:1
CLASS:PUBLIC
END:VEVENT
END:VCALENDAR
