BEGIN:VCALENDAR
PRODID:-//kirchenweb.ch gmbh//veranstaltungsausgabe v2.0//DE
VERSION:2.0
METHOD:PUBLISH
BEGIN:VEVENT
DTSTART:20230115T093000Z
DTEND:20230115T103000Z
LOCATION:Kirche Löhningen\, Kloster 3\, 8224 Löhningen
TRANSP:OPAQUE
SEQUENCE:0
UID:140034-veranstaltung@ref-sh.ch
DTSTAMP:20240817T114638Z
DESCRIPTION:Gottesdienst zum Beginn des Jahresprojekts 2023 mit Christa
  Bauer von TearFund und mit Pfarrer Lukas P. Huber. Christa Bauer wird das
  https://www.tearfund.ch/laender-und-projekte/malawi/nachhaltig-gegen-hung
 er/ vorstellen und auch predigen.\n\nAnschliessend Suppezmittag im
  Kleeblatt-Saal.\n\n\nKontakt: Pfr. Lukas P. Huber\n\nWeitere Infos:
  https://www.ref-sh.ch/veranstaltung/140034
SUMMARY:Gottesdienst zum Beginn des Jahresprojekts 2023
PRIORITY:5
X-MICROSOFT-CDO-IMPORTANCE:1
CLASS:PUBLIC
END:VEVENT
END:VCALENDAR
