BEGIN:VCALENDAR
PRODID:-//kirchenweb.ch gmbh//veranstaltungsausgabe v2.0//DE
VERSION:2.0
METHOD:PUBLISH
BEGIN:VEVENT
DTSTART:20230118T180000Z
DTEND:20230118T200000Z
LOCATION:Ref. Kirche Beringen\, Postberg 21\, 8222 Beringen
TRANSP:OPAQUE
SEQUENCE:0
UID:139996-veranstaltung@ref-sh.ch
DTSTAMP:20221028T060006Z
DESCRIPTION:Kontakt: Pfarrerin Jutta Schenk\n\nWeitere Infos:
  https://www.ref-sh.ch/veranstaltung/139996
SUMMARY:Probe Taizé-Gottesdienste
PRIORITY:5
X-MICROSOFT-CDO-IMPORTANCE:1
CLASS:PUBLIC
END:VEVENT
END:VCALENDAR
