BEGIN:VCALENDAR
PRODID:-//kirchenweb.ch gmbh//veranstaltungsausgabe v2.0//DE
VERSION:2.0
METHOD:PUBLISH
BEGIN:VEVENT
DTSTART:20230110T062000Z
DTEND:20230110T070500Z
LOCATION:Kirchgemeindehaus Beringen\, Steig 2\, 8222 Beringen
TRANSP:OPAQUE
SEQUENCE:0
UID:139797-veranstaltung@ref-sh.ch
DTSTAMP:20220802T131241Z
DESCRIPTION:Kontakt: Anita Bischof\n\nWeitere Infos:
  https://www.ref-sh.ch/veranstaltung/139797
SUMMARY:3.Klass-Unti
PRIORITY:5
X-MICROSOFT-CDO-IMPORTANCE:1
CLASS:PUBLIC
END:VEVENT
END:VCALENDAR
