BEGIN:VCALENDAR
PRODID:-//kirchenweb.ch gmbh//veranstaltungsausgabe v2.0//DE
VERSION:2.0
METHOD:PUBLISH
BEGIN:VEVENT
DTSTART:20230401T170000Z
DTEND:20230401T180000Z
LOCATION:Kirche Löhningen\, Kloster 3\, 8224 Löhningen
TRANSP:OPAQUE
SEQUENCE:0
UID:139453-veranstaltung@ref-sh.ch
DTSTAMP:20230402T093927Z
DESCRIPTION:90. SamGo Löhningen\, der Jugendgottesdienst für Teenager
  von 5. bis 9. Klasse. Heute mit Samuel Hafen (Gesang) und Pfarrer Lukas
  P. Huber (Gitarre und Worte).\n\nAnschliessend «Check-in» im
  Mesmerhuus.\n\nKontakt: Pfarrer Lukas P. Huber\n\nWeitere Infos:
  https://www.ref-sh.ch/veranstaltung/139453
SUMMARY:SamGo Löhningen
PRIORITY:5
X-MICROSOFT-CDO-IMPORTANCE:1
CLASS:PUBLIC
END:VEVENT
END:VCALENDAR
