BEGIN:VCALENDAR
PRODID:-//kirchenweb.ch gmbh//veranstaltungsausgabe v2.0//DE
VERSION:2.0
METHOD:PUBLISH
BEGIN:VEVENT
DTSTART:20230304T180000Z
DTEND:20230304T190000Z
LOCATION:Kirche Löhningen\, Kloster 3\, 8224 Löhningen
TRANSP:OPAQUE
SEQUENCE:0
UID:139452-veranstaltung@ref-sh.ch
DTSTAMP:20231227T165530Z
DESCRIPTION:89. SamGo Löhningen\, der Jugendgottesdienst für Teenager
  von 5. bis 9. Klasse. Mit Moderations-Team (Léonard Bünzli\, Orlando
  Mottola und Elia Tanner)\, mit einer kleinen Band und Pfarrer Lukas P.
  Huber\n\nAnschliessend «Check-in» im Mesmerhuus.\n\nKontakt: Pfarrer
  Lukas P. Huber\n\nWeitere Infos:
  https://www.ref-sh.ch/veranstaltung/139452
SUMMARY:SamGo Löhningen
PRIORITY:5
X-MICROSOFT-CDO-IMPORTANCE:1
CLASS:PUBLIC
END:VEVENT
END:VCALENDAR
