BEGIN:VCALENDAR
PRODID:-//kirchenweb.ch gmbh//veranstaltungsausgabe v2.0//DE
VERSION:2.0
METHOD:PUBLISH
BEGIN:VEVENT
DTSTART:20230310T164500Z
DTEND:20230310T173000Z
LOCATION:Ref. Kirche Beringen\, Postberg 21\, 8222 Beringen
TRANSP:OPAQUE
SEQUENCE:0
UID:139445-veranstaltung@ref-sh.ch
DTSTAMP:20220720T161914Z
DESCRIPTION:anschliessend Check-in Beringen\n\nKontakt: Pfarrer Lukas
  Huber\n\nWeitere Infos: https://www.ref-sh.ch/veranstaltung/139445
SUMMARY:Jugendgottesdienst 5.–9. Klasse
PRIORITY:5
X-MICROSOFT-CDO-IMPORTANCE:1
CLASS:PUBLIC
END:VEVENT
END:VCALENDAR
