BEGIN:VCALENDAR
PRODID:-//kirchenweb.ch gmbh//veranstaltungsausgabe v2.0//DE
VERSION:2.0
METHOD:PUBLISH
BEGIN:VEVENT
DTSTART:20230303T183000Z
DTEND:20230303T200000Z
LOCATION:Kirche\, Kirchstrasse 8\, 8214 Gächlingen
TRANSP:OPAQUE
SEQUENCE:0
UID:138908-veranstaltung@ref-sh.ch
DTSTAMP:20230313T160951Z
DESCRIPTION:Frauen aus Taiwan haben Lieder\, Texte und Gebete
  aufgeschrieben\, in denen sie ihr Land vorstellen und über einen Satz
  des Apostels Paulus nachdenken: "Ich habe von eurem Glauben gehört"
  (Epheser 1\,15) Ein Team von Frauen aus verschiedenen Christlichen
  Kirchen im Unterklettgau gestaltet die Feier in Gächlingen.\nNach dem
  bunten Gottesdienst gibt es einen Apéro mit Spezialitäten aus Taiwan.
 \nHerzliche Einladung an Frauen und Männer jeden Alters.\n\nKontakt:
  Marianne Näf-Bräker\n\nWeitere Infos:
  https://www.ref-sh.ch/veranstaltung/138908
SUMMARY:Regionale Feier zum Weltgebetstag
PRIORITY:5
X-MICROSOFT-CDO-IMPORTANCE:1
CLASS:PUBLIC
END:VEVENT
END:VCALENDAR
