BEGIN:VCALENDAR
PRODID:-//kirchenweb.ch gmbh//veranstaltungsausgabe v2.0//DE
VERSION:2.0
METHOD:PUBLISH
BEGIN:VEVENT
DTSTART:20240104T143000Z
DTEND:20240104T153000Z
LOCATION:Huus Emmersberg\, Bürgerstrasse 23\, 8200 Schaffhausen
TRANSP:OPAQUE
SEQUENCE:0
UID:138848-veranstaltung@ref-sh.ch
DTSTAMP:20230524T122037Z
DESCRIPTION:Kontakt: Verena Hubmann\n\nWeitere Infos:
  https://www.ref-sh.ch/veranstaltung/138848
SUMMARY:Seniorengottesdienst
PRIORITY:5
X-MICROSOFT-CDO-IMPORTANCE:1
CLASS:PUBLIC
END:VEVENT
END:VCALENDAR
