BEGIN:VCALENDAR
PRODID:-//kirchenweb.ch gmbh//veranstaltungsausgabe v2.0//DE
VERSION:2.0
METHOD:PUBLISH
BEGIN:VEVENT
DTSTART:20240104T090000Z
DTEND:20240104T100000Z
LOCATION:Künzleheim\, Bürgerstr. 36\, 8200 Schaffhausen
TRANSP:OPAQUE
SEQUENCE:0
UID:138842-veranstaltung@ref-sh.ch
DTSTAMP:20231227T140533Z
DESCRIPTION:Kontakt: Verena Hubmann\n\nWeitere Infos:
  https://www.ref-sh.ch/veranstaltung/138842
SUMMARY:Seniorengottesdienst
PRIORITY:5
X-MICROSOFT-CDO-IMPORTANCE:1
CLASS:PUBLIC
END:VEVENT
END:VCALENDAR
