BEGIN:VCALENDAR
PRODID:-//kirchenweb.ch gmbh//veranstaltungsausgabe v2.0//DE
VERSION:2.0
METHOD:PUBLISH
BEGIN:VEVENT
DTSTART:20221217T140000Z
DTEND:20221217T190000Z
LOCATION:Gächlingen\, \,
TRANSP:OPAQUE
SEQUENCE:0
UID:138554-veranstaltung@ref-sh.ch
DTSTAMP:20220623T085225Z
DESCRIPTION:Bald ist wieder Ameisli! Genauere Infos zum Programm folgen.\n
 \nMitnehmen:\n-Wetterentsprechende Kleidung\n-gefüllte Trinkflasche
 \n-Gute Laune\n\nStart:\nLöhningen: 13.30 Brunnen Bushaltestelle Dorf
 \nGächlingen: 13.50 Buhaltestelle Dorf\, Richtung Neunkirch
 \nOberhallau/Guntmadingen: Nach Absprache\n\nEnde:\nGächlingen: 17.05
  Bushaltestelle Dorf\, Richtung Siblingen\nLöhningen: 17.20 Brunnen
  Bushaltestelle Dorf\nOberhallau/Guntmadingen: Nach Absprache\n\nKontakt:
  Hanna Gfeller-Niklaus\n\nWeitere Infos:
  https://www.ref-sh.ch/veranstaltung/138554
SUMMARY:Waldweihnacht
PRIORITY:5
X-MICROSOFT-CDO-IMPORTANCE:1
CLASS:PUBLIC
END:VEVENT
END:VCALENDAR
