BEGIN:VCALENDAR
PRODID:-//kirchenweb.ch gmbh//veranstaltungsausgabe v2.0//DE
VERSION:2.0
METHOD:PUBLISH
BEGIN:VEVENT
DTSTART:20230121T120000Z
DTEND:20230121T162000Z
LOCATION:Löhninen\, \, 8224 Löhningen
TRANSP:OPAQUE
SEQUENCE:0
UID:138549-veranstaltung@ref-sh.ch
DTSTAMP:20230119T110453Z
DESCRIPTION:Diesen Nachmittag werden wir weiter in der Geschichte gehen
  und und  Sam gebührend verabschieden. Also zieh dich warm an und komm
  zum Treffpunkt um einen spannenden Nachmittag zu erleben.\n\nMitnehmen:
 \n-Wetterentsprechende Kleidung\n-gefüllte Trinkflasche\n-Gute Laune\n
 \nStart:\nGächlingen: 13.00 Buhaltestelle Dorf\, Richtung Siblingen
 \nLöhningen: 13.20 Brunnen Bushaltestelle Dorf\nOberhallau/Guntmadingen:
  Nach Absprache\n\nEnde:\nGächlingen: 16.48 Bushaltestelle Dorf\,
  Richtung Neunkirch\nLöhningen: 16.35 Brunnen Bushaltestelle Dorf
 \nOberhallau/Guntmadingen: Nach Absprache\n\n\nKontakt:\nAnja Ryser\n079
  229 13 85\n\nKontakt: Anja Ryser\n\nWeitere Infos:
  https://www.ref-sh.ch/veranstaltung/138549
SUMMARY:Ameisli
PRIORITY:5
X-MICROSOFT-CDO-IMPORTANCE:1
CLASS:PUBLIC
END:VEVENT
END:VCALENDAR
