BEGIN:VCALENDAR
PRODID:-//kirchenweb.ch gmbh//veranstaltungsausgabe v2.0//DE
VERSION:2.0
METHOD:PUBLISH
BEGIN:VEVENT
DTSTART:20230107T120500Z
DTEND:20230107T153500Z
LOCATION:Löhningen\, \,
TRANSP:OPAQUE
SEQUENCE:0
UID:138544-veranstaltung@ref-sh.ch
DTSTAMP:20230109T141058Z
DESCRIPTION:Diese Samstag ist wieder Ameisli und wir machen uns auf den
  Weg nach Ägypten. Also zieh gute Schuhe und angemessene Kleider für
  draussen an und komm zum Treffpunkt.\n\nMitnehmen:\n-Wetterentsprechende
  Kleidung\n-gefüllte Trinkflasche\n-Gute Laune\n\nStart:\nGächlingen:
  13.00 Buhaltestelle Dorf\, Richtung Siblingen\nLöhningen: 13.20 Brunnen
  Bushaltestelle Dorf\nOberhallau/Guntmadingen: Nach Absprache\n\nEnde:
 \nGächlingen: 16.48 Bushaltestelle Dorf\, Richtung Neunkirch\nLöhningen:
  16.35 Brunnen Bushaltestelle Dorf\nOberhallau/Guntmadingen: Nach
  Absprache\n\nKontakt: Anja Ryser\n\n\nWeitere Infos:
  https://www.ref-sh.ch/veranstaltung/138544
SUMMARY:Ameisli in Löhningen
PRIORITY:5
X-MICROSOFT-CDO-IMPORTANCE:1
CLASS:PUBLIC
END:VEVENT
END:VCALENDAR
