BEGIN:VCALENDAR
PRODID:-//kirchenweb.ch gmbh//veranstaltungsausgabe v2.0//DE
VERSION:2.0
METHOD:PUBLISH
BEGIN:VEVENT
DTSTART:20221125T180000Z
DTEND:20221125T200000Z
LOCATION:Hofmeisterhuus\, Eichenstrasse 37\, \, 8200 Schaffhausen
TRANSP:OPAQUE
SEQUENCE:0
UID:138515-veranstaltung@ref-sh.ch
DTSTAMP:20221108T103237Z
DESCRIPTION:Du liebst es in verschiedene Rollen zu schlüpfen und hast
  Spass am Improvisieren? Dann ist es Zeit für die FunFactory! Hier gibt
  es Spiel\, Spass und alles rund um das Theaterspielen. \n\nKontakt: \n
 \nWeitere Infos: https://www.ref-sh.ch/veranstaltung/138515
SUMMARY:FunFactory (Jugendtheatergruppe für 6.-8. Klasse)
PRIORITY:5
X-MICROSOFT-CDO-IMPORTANCE:1
CLASS:PUBLIC
END:VEVENT
END:VCALENDAR
