BEGIN:VCALENDAR
PRODID:-//kirchenweb.ch gmbh//veranstaltungsausgabe v2.0//DE
VERSION:2.0
METHOD:PUBLISH
BEGIN:VEVENT
DTSTART:20221125T160000Z
DTEND:20221125T180000Z
LOCATION:Hofmeisterhuus\, Eichenstrasse 37\, \, 8200 Schaffhausen
TRANSP:OPAQUE
SEQUENCE:0
UID:138511-veranstaltung@ref-sh.ch
DTSTAMP:20221108T103206Z
DESCRIPTION:Wir treffen uns 1 Mal im Monat am Freitag\, von 17-19 Uhr im
  Hofmeisterhuus an der Eichenstrasse 37\n\nAnmeldungen bis 12 Uhr am
  jeweiligen Kurstag bei stephanie.lemke-signer\n077 511 30 62
 \nstephanie.lemke-signer@ref-sh.ch\n\nKontakt: \n\nWeitere Infos:
  https://www.ref-sh.ch/veranstaltung/138511
SUMMARY:FunFactory Kids (Theatergruppe für 3.-5. Klasse)
PRIORITY:5
X-MICROSOFT-CDO-IMPORTANCE:1
CLASS:PUBLIC
END:VEVENT
END:VCALENDAR
