BEGIN:VCALENDAR
PRODID:-//kirchenweb.ch gmbh//veranstaltungsausgabe v2.0//DE
VERSION:2.0
METHOD:PUBLISH
BEGIN:VEVENT
DTSTART:20230107T104500Z
DTEND:20230107T130000Z
LOCATION:Beringen\, Kirchgemeindehaus\, Steig 2\, 8222 Beringen
TRANSP:OPAQUE
SEQUENCE:0
UID:138474-veranstaltung@ref-sh.ch
DTSTAMP:20220621T120241Z
DESCRIPTION:Kontakt: Ulrike Lüthi\n\nWeitere Infos:
  https://www.ref-sh.ch/veranstaltung/138474
SUMMARY:Zmittagplausch
PRIORITY:5
X-MICROSOFT-CDO-IMPORTANCE:1
CLASS:PUBLIC
END:VEVENT
END:VCALENDAR
