BEGIN:VCALENDAR
PRODID:-//kirchenweb.ch gmbh//veranstaltungsausgabe v2.0//DE
VERSION:2.0
METHOD:PUBLISH
BEGIN:VEVENT
DTSTART:20230408T160000Z
DTEND:20230408T190000Z
LOCATION:Kirche\, Kirchstrasse 8\, 8214 Gächlingen
TRANSP:OPAQUE
SEQUENCE:0
UID:137993-veranstaltung@ref-sh.ch
DTSTAMP:20230504T083030Z
DESCRIPTION:Die Ostern stehen vor der Tür. Und so wie letztes Jahr werden
  wir (Boxenstopp Team) einen besonderen Tauf-Boxenstopp mit
  anschliessender Gebetsnacht organisieren. Und «JA» wir haben dieses
  Jahr eine Hotpot. \n\nOster und Tauf-Boxenstopp\nDer Oster Boxenstopp
  findet am Karsamstag Abend\, am 8.April in der Kirche Gächlingen statt.
  Ablauf wie üblich: 18:00 Start\, 18:30 Znacht\, 19:30 Gottesdienst
  https://www.ref-sh.ch/dok/49036\n\nhttps://www.ref-sh.ch/dok/49036\n
 \nGebetsnacht \nGleich anschliessend an den Oster-Boxenstopp findet die
  Gebetsnacht\, ebenfalls in der Kirche Gächlingen\, statt. Es gibt
  unterschiedliche Gebetsblöcke\, zu denen man kommen kann
  https://www.ref-sh.ch/dok/49036. Man kann aber alternativ auch einfach in
  der Kirche übernachten (mit Mäteli u. Schlafsack). Die Gebetsnacht
  endet mit der Ostermorgenfeier (06:00) und dem anschliessenden
  Osterzmorge (07:00). \n\nHotpot \nWir haben dieses Jahr einen Hotpot vor
  der Kirche Gächlingen der von uns (Boxenstopp Team) am Samstag zu
  folgenden Zeiten betrieben wird:\nSa. 8.Apr. 	  14:00-18:00\nSa. -
  So.	8.- 9.Apr. 21:00-06:00\n\nAuch am Ostermontag steht der Hotpot weiter
  zur Verfügung. Wird aber nicht von uns betrieben. Falls sich jemand
  dafür interessiert bitte bei Sebastian Ebi melden. Holz usw. wäre
  vorhanden. \n\n\nKontakt: Jugendarbeiter Sebastian Ebi\,
  sebastian.ebi@ref-sh.ch\, 079 576 99 94\n\nWeitere Infos:
  https://www.ref-sh.ch/veranstaltung/137993
SUMMARY:Special: Oster-Boxenstopp und Gebetsnacht
PRIORITY:5
X-MICROSOFT-CDO-IMPORTANCE:1
CLASS:PUBLIC
END:VEVENT
END:VCALENDAR
