BEGIN:VCALENDAR
PRODID:-//kirchenweb.ch gmbh//veranstaltungsausgabe v2.0//DE
VERSION:2.0
METHOD:PUBLISH
BEGIN:VEVENT
DTSTART:20230219T163000Z
DTEND:20230219T200000Z
LOCATION:Kirchgemeindehaus Beringen\, Steig 2\, 8222 Beringen
TRANSP:OPAQUE
SEQUENCE:0
UID:137986-veranstaltung@ref-sh.ch
DTSTAMP:20230217T130656Z
DESCRIPTION:Weitere Infos zum Boxenstopp findest du unter boxenstopp.\n
 \nProgramm\n18:00 – Apéro\n18:30 – Znacht\n19:30 – Gottesdienst
 \n21:00 – Snacks und open end\n\nKontakt: Sebastian Ebi\,
  sebastian.ebi@ref-sh.ch\, 079 576 99 94\n\nWeitere Infos:
  https://www.ref-sh.ch/veranstaltung/137986
SUMMARY:Boxenstopp
PRIORITY:5
X-MICROSOFT-CDO-IMPORTANCE:1
CLASS:PUBLIC
END:VEVENT
END:VCALENDAR
