BEGIN:VCALENDAR
PRODID:-//kirchenweb.ch gmbh//veranstaltungsausgabe v2.0//DE
VERSION:2.0
METHOD:PUBLISH
BEGIN:VEVENT
DTSTART:20221211T170000Z
DTEND:20221211T200000Z
LOCATION:Wasenhütte\, \,
TRANSP:OPAQUE
SEQUENCE:0
UID:137985-veranstaltung@ref-sh.ch
DTSTAMP:20221125T133303Z
DESCRIPTION:Schon bald findet der Weihnachts-Boxenstopp statt. \nWir
  werden in der https://s.geo.admin.ch/9bd9acd879 im Neunkircher Wald sein.
  Auch bei schlechtem Wetter. \n\nAnreise: \n- Man kann selber kommen
  https://s.geo.admin.ch/9bd9acd879.\n- Falls ein Shuttle benötigt wird\,
  bitte https://www.junge-kirche-klettgau.ch/sebastian.ebi kontaktieren. 
 \n- Es besteht auch die Möglichkeit zu einer kurzen Wanderung (30min) hin
  zur Wasenhütte. Bitte ebenfalls bei
  https://www.junge-kirche-klettgau.ch/sebastian.ebi anmelden. Treffpunkt
  17.00 bei der Jagdhütte im Ergoltingertaal
  https://s.geo.admin.ch/9bd9acd879.\n\nProgramm\n17:30 Apéro\n18:15
  Znacht \n19:15 Weihnachtslieder \n19:30 Gottesdienst\n\nMitbringen: 
 \n-Geschirr für Suppe u. Schinken \n-Tasse \n-Bettflasche (es gibt warmes
  Wasser/ zum aufwärmen) \n-Evtl. Stirnlampe \n\nKontakt: Sebastian Ebi\,
  sebastian.ebi@ref-sh.ch\, 079 576 99 94\n\nWeitere Infos:
  https://www.ref-sh.ch/veranstaltung/137985
SUMMARY:Boxenstopp- Weihnachten
PRIORITY:5
X-MICROSOFT-CDO-IMPORTANCE:1
CLASS:PUBLIC
END:VEVENT
END:VCALENDAR
