BEGIN:VCALENDAR
PRODID:-//kirchenweb.ch gmbh//veranstaltungsausgabe v2.0//DE
VERSION:2.0
METHOD:PUBLISH
BEGIN:VEVENT
DTSTART:20230507T063000Z
DTEND:20230507T100000Z
LOCATION:Begegnungszentrum Rüdlingen\, Nackerstrasse 146\, 8455
  Rüdlingen
TRANSP:OPAQUE
SEQUENCE:0
UID:137939-veranstaltung@ref-sh.ch
DTSTAMP:20230418T153004Z
DESCRIPTION:An das Generationen-Wochenende 2023 kann man sich
  https://www.ref-sh.ch/generationen-wochenende\n\nKontakt: Maja Ernst\n
 \nWeitere Infos: https://www.ref-sh.ch/veranstaltung/137939
SUMMARY:Generationen-Wochenende in Rüdlingen
PRIORITY:5
X-MICROSOFT-CDO-IMPORTANCE:1
CLASS:PUBLIC
END:VEVENT
END:VCALENDAR
