BEGIN:VCALENDAR
PRODID:-//kirchenweb.ch gmbh//veranstaltungsausgabe v2.0//DE
VERSION:2.0
METHOD:PUBLISH
BEGIN:VEVENT
DTSTART:20221119T174500Z
DTEND:20221119T194500Z
LOCATION:St.Johann\, Kirchhofplatz\, 8200 Schaffhausen
TRANSP:OPAQUE
SEQUENCE:0
UID:137059-veranstaltung@ref-sh.ch
DTSTAMP:20221115T131310Z
DESCRIPTION:Wichtig: aus Energiespargründen findet diese Thomasmesse in
  der Kirche St. Johann statt. \n\n«Gemeinsam sind wir stark» - das ist
  das Motto des altra-Chores Schaffhausen\, in dem Menschen mit
  verschiedenen Beeinträchtigungen mitsingen. Sie werden in der
  Thomasmesse am Samstag\, 19. November um 18.45h im Münster mitwirken.
  Dass sie verschieden sind\, finden sie gut. Diesen Verschiedenheiten
  wollen wir in diesem etwas anderen Gottesdienst für Zweifelnde und
  andere gute Christen nachgehen – denn was ist schon normal?\n\nDiese
  Thomasmesse steht unter dem Titel "(in)valid - Integration oder
  Inklusion?"\nMitwirkung:\nSonja Anderegg und Alain Thomann\, altra
  schaffhausen\nGabriele De Ventura\, Katechetin Granatenbaumgut\nMusik:
  Chor altra voce\, Ltg. Ruth Vogelsanger; Keyboard Andrea Stamm
 \nModeration: Michèle Lampinen\n\nKontakt: Pfr. Matthias Eichrodt\n
 \nWeitere Infos: https://www.ref-sh.ch/veranstaltung/137059
SUMMARY:Thomasmesse: "(in)valid - Integration oder Inklusion?"
PRIORITY:5
X-MICROSOFT-CDO-IMPORTANCE:1
CLASS:PUBLIC
END:VEVENT
END:VCALENDAR
