BEGIN:VCALENDAR
PRODID:-//kirchenweb.ch gmbh//veranstaltungsausgabe v2.0//DE
VERSION:2.0
METHOD:PUBLISH
BEGIN:VEVENT
DTSTART:20220915T170000Z
DTEND:20220915T190000Z
LOCATION:Kirche St.Johann\, Kirchhofplatz\, 8200 Schaffhausen
TRANSP:OPAQUE
SEQUENCE:0
UID:137058-veranstaltung@ref-sh.ch
DTSTAMP:20220817T082658Z
DESCRIPTION:Gemeinsame Probe für die Mtwirkung im oekumenischen
  Gottesdienst am Bettag\n\n➜ &nbsp;
  https://www.ref-sh.ch/_kirchenweb/?menu=zusammenarbeit&g=la-capella-chorp
 robe\n\nKontakt: &nbsp;\nHans-Jörg Ganz\nChristoph Honegger\n\nWeitere
  Infos: https://www.ref-sh.ch/veranstaltung/137058
SUMMARY:Chorprobe La Capella & kath. Kirchenchor
PRIORITY:5
X-MICROSOFT-CDO-IMPORTANCE:1
CLASS:PUBLIC
END:VEVENT
END:VCALENDAR
