BEGIN:VCALENDAR
PRODID:-//kirchenweb.ch gmbh//veranstaltungsausgabe v2.0//DE
VERSION:2.0
METHOD:PUBLISH
BEGIN:VEVENT
DTSTART:20220910T150000Z
DTEND:20220910T160000Z
LOCATION:Kirche\, Chilchenweg\, 8454 Buchberg-Rüdlingen
TRANSP:OPAQUE
SEQUENCE:0
UID:136164-veranstaltung@ref-sh.ch
DTSTAMP:20220806T113939Z
DESCRIPTION:Zwei Welten treffen in diesem Konzert aufeinander: Die Welt
  des Belcanto und die Welt der traditionellen japanischen Musik mit dem
  alten Instrument Koto\, eine mit 13 Saiten bespannte Wölbbrettzither\,
  welche aus dem 7. Jahrhundert stammt.\n\nYumi Golay (Sopran)			\nChizuko
  Hayashi (Koto)\n\nEintritt frei\, Kollekte\n\nKontakt:
  brigitte.haederli@ref-sh.ch\n\nWeitere Infos:
  https://www.ref-sh.ch/veranstaltung/136164
SUMMARY:Konzert: Töne der Heimat
PRIORITY:5
X-MICROSOFT-CDO-IMPORTANCE:1
CLASS:PUBLIC
END:VEVENT
END:VCALENDAR
