BEGIN:VCALENDAR
PRODID:-//kirchenweb.ch gmbh//veranstaltungsausgabe v2.0//DE
VERSION:2.0
METHOD:PUBLISH
BEGIN:VEVENT
DTSTART:20221115T183000Z
DTEND:20221115T203000Z
LOCATION:Hotel zum Rüden\, Seminarraum 2.Stock\, Oberstadt 20\, 8200
  Schaffhausen
TRANSP:OPAQUE
SEQUENCE:0
UID:135736-veranstaltung@ref-sh.ch
DTSTAMP:20220314T163012Z
DESCRIPTION:Zahlreiche Lebensfragen fordern die Theologie heraus. Doch
  ihre Aussagen entsprechen nicht immer unserem heutigen Denken. Das
  «Bistro Theo» bietet ein Forum\, um darüber in Diskussionen –
  vorbereitet durch kurze Inputs – kritisch und selbstkritisch
  nachzudenken.\n\n3 Diskussionsabende mit Inputs von Alfred Wüger
  (Redaktor) und Dr. phil. Andreas Heieck (Pfarrer)\, Dienstag\, 1.\, 8.
  und 15. November 2022\, jeweils 19.30 Uhr –  21.30 Uhr\, Hotel zum
  Rüden\, Seminarraum 2.Stock\, Oberstadt 20\, 8200 Schaffhausen (Eintritt
  frei; allfällige Getränke werden individuell bezahlt)\n\nKontakt: Pfr.
  Dr. phil. Andreas Heieck\n\nWeitere Infos:
  https://www.ref-sh.ch/veranstaltung/135736
SUMMARY:Bistro Theo: "Wozu Religion?" (3.Abend)
PRIORITY:5
X-MICROSOFT-CDO-IMPORTANCE:1
CLASS:PUBLIC
END:VEVENT
END:VCALENDAR
