BEGIN:VCALENDAR
PRODID:-//kirchenweb.ch gmbh//veranstaltungsausgabe v2.0//DE
VERSION:2.0
METHOD:PUBLISH
BEGIN:VEVENT
DTSTART:20221204T160000Z
DTEND:20221204T170000Z
LOCATION:Kirche\, Dorfstrasse\, 8454 Buchberg-Rüdlingen
TRANSP:OPAQUE
SEQUENCE:0
UID:134742-veranstaltung@ref-sh.ch
DTSTAMP:20221117T101902Z
DESCRIPTION:Mitwirkende:				\nMännerchor Buchberg			\nGemischter Chor
  Rheinklang Rüdlingen		\nLydia Dietrich\, Blockflöte		\nVictor
  Radulescu\, Orgel\n\nEintritt frei\, Kollekte\n\nKontakt:
  beat.frefel@ref-sh.ch\n\nWeitere Infos:
  https://www.ref-sh.ch/veranstaltung/134742
SUMMARY:Adventskonzert
PRIORITY:5
X-MICROSOFT-CDO-IMPORTANCE:1
CLASS:PUBLIC
END:VEVENT
END:VCALENDAR
