BEGIN:VCALENDAR
PRODID:-//kirchenweb.ch gmbh//veranstaltungsausgabe v2.0//DE
VERSION:2.0
METHOD:PUBLISH
BEGIN:VEVENT
DTSTART:20221217T140000Z
DTEND:20221217T190000Z
LOCATION:Gächlingen / Löhningen / Oberhallau\, \,
TRANSP:OPAQUE
SEQUENCE:0
UID:134060-veranstaltung@ref-sh.ch
DTSTAMP:20221214T205336Z
DESCRIPTION:Thema: Waldweihnachten mit Jungschar und Ameisli\n
 \nTreffpunkt: 15:00 Parkplatz in der Nähe von Restaurant Eschheimertal\n
 \nMitnehmen: dem Wetter angepasste Kleidung\n\nInfo:\n\nLiebe TCler\n\nAn
  diesem Samstag werden wir gemeinsam mit der Jungschar und den Ameisli wie
  jedes Jahr Waldweihnachten feiern. Dazu treffen wir uns um 15:00 beim
  Parkplatz in der Nähe vom Restaurant Eschheimertal. \n\nDas offizielle
  Ende des Nachmittags ist um 20:00 bei der Eschihütte. Ihr als TCler
  dürft jedoch in Absprache mit euren Eltern auch noch länger bleiben und
  beim anschliessenden Leiterabend dabei sein.\n\nDa wir den ganzen
  Nachmittag draussen sein werden bitten wir euch\, euch der Witterung
  entsprechend zu kleiden und genug warme Klamotten mitzunehmen.\n\nWir
  freuen uns auf einen tollen Jahresabschluss mit euch.\n\nEure TC Leiter\n
 \nBei Fragen: \nTC Leiterin Zoë Mettler\nE-Mail: zoe.mettler@ref-sh.ch\n
 \nNächster Teenager Club Termine:\n\n\n\nKontakt: TC Leiterin Zoë
  Mettler\nE-Mail: zoe.mettler@ref-sh.ch\n\nWeitere Infos:
  https://www.ref-sh.ch/veranstaltung/134060
SUMMARY:TC - Waldweihnacht mit Jungschar und Ameisli
PRIORITY:5
X-MICROSOFT-CDO-IMPORTANCE:1
CLASS:PUBLIC
END:VEVENT
END:VCALENDAR
