BEGIN:VCALENDAR
PRODID:-//kirchenweb.ch gmbh//veranstaltungsausgabe v2.0//DE
VERSION:2.0
METHOD:PUBLISH
BEGIN:VEVENT
DTSTART:20221202T183000Z
DTEND:20221202T210000Z
LOCATION:Gächlingen / Löhningen / Oberhallau\, \,
TRANSP:OPAQUE
SEQUENCE:0
UID:134059-veranstaltung@ref-sh.ch
DTSTAMP:20221106T123127Z
DESCRIPTION:Thema: Einblick in eine fremde Kultur\n\nTreffpunkt: 19:30
  Messmerhaus Löhningen\n\nMitnehmen: eure Freunde\n\nLiebe TCler\n\nAm
  ersten TC im Dezember werden wir mithilfe von zwei Special Guests einen
  Einblick in eine fremde Kultur erhalten. Dazu treffen wir uns wie üblich
  um 19:30 im Messmerhaus in Löhningen. Gerne dürft ihr eure Freunde an
  diesen Abend mitbringen\, auch wenn diese vielleicht noch nicht im TC
  waren bisher. \n\nWir freuen uns auf einen weiteren tollen Abend mit
  euch!\n\nEuer TC Team\n\nInfo:\n\nBei Fragen: \nTC Leiterin Zoë Mettler
 \nE-Mail: zoe.mettler@ref-sh.ch\n\nNächster Teenager Club Termine:\n\n\n
 \nKontakt: TC Leiterin Zoë Mettler\nE-Mail: zoe.mettler@ref-sh.ch\n
 \nWeitere Infos: https://www.ref-sh.ch/veranstaltung/134059
SUMMARY:TC - Einblick in eine fremde Kultur
PRIORITY:5
X-MICROSOFT-CDO-IMPORTANCE:1
CLASS:PUBLIC
END:VEVENT
END:VCALENDAR
