BEGIN:VCALENDAR
PRODID:-//kirchenweb.ch gmbh//veranstaltungsausgabe v2.0//DE
VERSION:2.0
METHOD:PUBLISH
BEGIN:VEVENT
DTSTART:20220514T080000Z
DTEND:20220514T140000Z
LOCATION:Kirche\, \,  Buchberg Rüdlingen
TRANSP:OPAQUE
SEQUENCE:0
UID:133791-veranstaltung@ref-sh.ch
DTSTAMP:20220115T155035Z
DESCRIPTION:Erste Hilfe nach Unfällen zu leisten\, wird in unserer
  Gesellschaft als eine selbstverständliche Aufgabe angesehen. Doch wie
  helfen wir Menschen\, deren Lebensende gekommen ist?\n\nIn diesem Letzte
  Hilfe Kurs lernen Interessierte\, was sie für die ihnen Nahestehenden am
  Ende des Lebens tun können.\n\nWir möchten Grundwissen an die Hand
  geben und ermutigen\, sich Sterbenden zuzuwenden. Wir vermitteln in
  diesem kompakten Kurs Basiswissen\, Orientierungen und einfache
  Handgriffe.\n\nDer Kurs ist kostenlos.\n\nKursleitung: Brigitte Ochsner\,
  Betriebsleitung Spitex Buchberg-Rüdlingen				\nBeat Frefel\, Pfarrer
  reformierte Kirchgemeinde Buchberg-Rüdlingen			\n\nAnmeldungen bis am
  7.5. an Beat Frefel\, ; 044 867 05 18\n\nKontakt: Brigitte Ochsner\, Beat
  Frefel\n\nWeitere Infos: https://www.ref-sh.ch/veranstaltung/133791
SUMMARY:Letzte Hilfe Kurs
PRIORITY:5
X-MICROSOFT-CDO-IMPORTANCE:1
CLASS:PUBLIC
END:VEVENT
END:VCALENDAR
