BEGIN:VCALENDAR
PRODID:-//kirchenweb.ch gmbh//veranstaltungsausgabe v2.0//DE
VERSION:2.0
METHOD:PUBLISH
BEGIN:VEVENT
DTSTART:20221125T090000Z
DTEND:20221125T100000Z
LOCATION:Altersheim am Kirchhofplatz\, Kirchhofplatz 15\, 8200
  Schaffhausen
TRANSP:OPAQUE
SEQUENCE:0
UID:133448-veranstaltung@ref-sh.ch
DTSTAMP:20220105T124640Z
DESCRIPTION:Kontakt: Matthias Eichrodt\n\nWeitere Infos:
  https://www.ref-sh.ch/veranstaltung/133448
SUMMARY:Seniorengottesdienst
PRIORITY:5
X-MICROSOFT-CDO-IMPORTANCE:1
CLASS:PUBLIC
END:VEVENT
END:VCALENDAR
