BEGIN:VCALENDAR
PRODID:-//kirchenweb.ch gmbh//veranstaltungsausgabe v2.0//DE
VERSION:2.0
METHOD:PUBLISH
BEGIN:VEVENT
DTSTART:20221222T090000Z
DTEND:20221222T100000Z
LOCATION:Alters- und Pflegeheim\, Zelgstr. 2\, 8222 Beringen
TRANSP:OPAQUE
SEQUENCE:0
UID:132574-veranstaltung@ref-sh.ch
DTSTAMP:20211216T065204Z
DESCRIPTION:mit Abendmahl\n\nKontakt: Pastorin Milena Šelemba\n\nWeitere
  Infos: https://www.ref-sh.ch/veranstaltung/132574
SUMMARY:Gottesdienst im Altersheim "Ruhesitz"
PRIORITY:5
X-MICROSOFT-CDO-IMPORTANCE:1
CLASS:PUBLIC
END:VEVENT
END:VCALENDAR
