BEGIN:VCALENDAR
PRODID:-//kirchenweb.ch gmbh//veranstaltungsausgabe v2.0//DE
VERSION:2.0
METHOD:PUBLISH
BEGIN:VEVENT
DTSTART:20221207T130000Z
DTEND:20221207T143000Z
LOCATION:Mesmerhuus\, Kloster 14\, 8224 Löhningen
TRANSP:OPAQUE
SEQUENCE:0
UID:131919-veranstaltung@ref-sh.ch
DTSTAMP:20221203T091608Z
DESCRIPTION:Senioren-Nachmittag mit Pfarrer Lukas P. Huber und Doris
  Klingler am Klavier.\n\nKontakt: ruedi.spoerndli@ref-sh.ch\n\nWeitere
  Infos: https://www.ref-sh.ch/veranstaltung/131919
SUMMARY:Senioren-Nachmittag: «Bei diesem Stammbaum?!»
PRIORITY:5
X-MICROSOFT-CDO-IMPORTANCE:1
CLASS:PUBLIC
END:VEVENT
END:VCALENDAR
