BEGIN:VCALENDAR
PRODID:-//kirchenweb.ch gmbh//veranstaltungsausgabe v2.0//DE
VERSION:2.0
METHOD:PUBLISH
BEGIN:VEVENT
DTSTART:20220722T174500Z
DTEND:20220722T184500Z
LOCATION:Kirche\, \,
TRANSP:OPAQUE
SEQUENCE:0
UID:131413-veranstaltung@ref-sh.ch
DTSTAMP:20220704T143402Z
DESCRIPTION:Klavier-Quintette von Schumann & Dvořák\n\nMit Stefan
  Tönz\, Fabienne Leresche\, Caterina Klemm (Violine)\, Mareike Hefti
  (Viola)\, Eleonore Willi\n(Violoncello)\, Helga Váradi (Cembalo)\,
  Patrick Leresche (Klavier)\n\nKontakt: beat.frefel@ref-sh.ch\n\nWeitere
  Infos: https://www.ref-sh.ch/veranstaltung/131413
SUMMARY:Buchberg Classics
PRIORITY:5
X-MICROSOFT-CDO-IMPORTANCE:1
CLASS:PUBLIC
END:VEVENT
END:VCALENDAR
