BEGIN:VCALENDAR
PRODID:-//kirchenweb.ch gmbh//veranstaltungsausgabe v2.0//DE
VERSION:2.0
METHOD:PUBLISH
BEGIN:VEVENT
DTSTART:20220911T090000Z
DTEND:20220911T100000Z
LOCATION:Kirche\, \,  Buchberg-Rüdlingen
TRANSP:OPAQUE
SEQUENCE:0
UID:128030-veranstaltung@ref-sh.ch
DTSTAMP:20220907T062741Z
DESCRIPTION:Mitwirkung: Heidi Meyer\, Manu Keller und Franzi Werner\n\nDie
  Imkerin Heidi Meyer ist in Rüdlingen aufgewachsen und produziert in
  Buchenloo mit ihren Bienen Honig in Bioqualität. Sie sagt: "Die Bienen
  sehen sich nicht als Individuum\, sondern funktionieren nur im Volk\, und
  jede trägt der anderen Sorge.» Das Verhalten der Bienen könnte oftmals
  auch auf unser menschliches Leben übertragen werden: «Wir können viel
  von den Bienen lernen.»\n\nMit Heidi Meyer und ihrem Team diskutieren
  wir im Gottesdienst\, wie unser Zusammenleben sein könnte und wo Gott da
  mit im Spiel ist. Heidi erzählt von ihrem Vertrauen in Gott bei ihrer
  Arbeit und dem Aufbau ihres Betriebs.\n\nNach dem Gottesdienst steht der
  Grill bereit. Wer bleiben will und Hunger hat\, kann seine Wurst\, sein
  Steak und seinen Bratkäse darauflegen und gemütlich vor der Kirche mit
  anderen in den Sonntagnachmittag starten.\n\nDas Essen bitte selber
  mitbringen. Für Spontanentschlossene halten wir gerne Wurst und Brot
  parat. Getränke geben wir zum Selbstkostenpreis ab.\n\nKontakt: Beat
  Frefel\n\nWeitere Infos: https://www.ref-sh.ch/veranstaltung/128030
SUMMARY:Zmittag-Gottesdienst
PRIORITY:5
X-MICROSOFT-CDO-IMPORTANCE:1
CLASS:PUBLIC
END:VEVENT
END:VCALENDAR
