BEGIN:VCALENDAR
PRODID:-//kirchenweb.ch gmbh//veranstaltungsausgabe v2.0//DE
VERSION:2.0
METHOD:PUBLISH
BEGIN:VEVENT
DTSTART:20220814T090000Z
DTEND:20220814T100000Z
LOCATION:Kirche\, \,  Buchberg-Rüdlingen
TRANSP:OPAQUE
SEQUENCE:0
UID:128029-veranstaltung@ref-sh.ch
DTSTAMP:20220809T072151Z
DESCRIPTION:Mitwirkung: Örgelifründe Rüdlingen\, D Mühlibächler und
  weitere Mitmusizierende\n\nWissen Sie\, was eine Stubete ist?  Damit ist
  gemeint\, dass Volksmusikanten in einem bestimmten Gasthaus
  zusammenkommen\, um miteinander zu spielen. Dabei kann jeder sein
  Instrument mitnehmen und bei anderen Gruppen mitspielen oder auch
  mitsingen. In diesem Gottesdienst ist die Kirche das Gasthaus und die
  Schwyzerörgeli die Orgel.\n\nWer mitspielen will: Nur zu! Schwyzer
  Örgeli\, Bassgeige\, Klarinette\, Gitarre mitnehmen.\n\nWir freuen uns
  auf beschwingte Klänge und erörtern in diesem Gottesdienst\, welche
  Werte Zusammenspiel und Tradition haben.\n\nNach dem Gottesdienst steht
  der Grill bereit. Wer bleiben will und Hunger hat\, kann seine Wurst\,
  sein Steak und seinen Bratkäse darauflegen und gemütlich vor der Kirche
  mit anderen in den Sonntagnachmittag starten.\n\nDas Essen bitte selber
  mitbringen. Für Spontanentschlossene halten wir gerne Wurst und Brot
  parat. Getränke geben wir zum Selbstkostenpreis ab.\n\n\nKontakt:
  Barbara Erdmann\n\nWeitere Infos:
  https://www.ref-sh.ch/veranstaltung/128029
SUMMARY:Zmittag-Gottesdienst
PRIORITY:5
X-MICROSOFT-CDO-IMPORTANCE:1
CLASS:PUBLIC
END:VEVENT
END:VCALENDAR
