BEGIN:VCALENDAR
PRODID:-//kirchenweb.ch gmbh//veranstaltungsausgabe v2.0//DE
VERSION:2.0
METHOD:PUBLISH
BEGIN:VEVENT
DTSTART:20220710T090000Z
DTEND:20220710T100000Z
LOCATION:Kirche\, \,  Buchberg-Rüdlingen
TRANSP:OPAQUE
SEQUENCE:0
UID:128028-veranstaltung@ref-sh.ch
DTSTAMP:20220706T072843Z
DESCRIPTION:„Die Kirche hat in der Politik nichts verloren“ sagen
  einige. „Wenn die Kirche sich für die Schwachen einsetzen will\, wird
  es schnell politisch“ entgegnen andere. Ob und wie sich die Kirche zu
  gesellschaftlichen Fragen und politischen Themen äussern soll\, hat
  schon manchen Blutdruck in die Höhe getrieben. Dass die Kirche in unsere
  beiden Dörfer gehört\, scheint aber unbestritten zu sein.\n\nWir freuen
  uns in diesem Gottesdienst darüber mit Hanspeter Kern zu diskutieren.\n
 \nNach dem Gottesdienst steht der Grill bereit. Wer bleiben will und
  Hunger hat\, kann seine Wurst\, sein Steak und seinen Bratkäse
  darauflegen und gemütlich vor der Kirche mit anderen in den
  Sonntagnachmittag starten.\n\nDas Essen bitte selber mitbringen. Für
  Spontanentschlossene halten wir gerne Wurst und Brot parat. Getränke
  geben wir zum Selbstkostenpreis ab.\n\n\nKontakt: Beat Frefel\n\nWeitere
  Infos: https://www.ref-sh.ch/veranstaltung/128028
SUMMARY:Zmittag-Gottesdienst
PRIORITY:5
X-MICROSOFT-CDO-IMPORTANCE:1
CLASS:PUBLIC
END:VEVENT
END:VCALENDAR
